BEGIN:VCALENDAR
VERSION:2.0
PRODID:-//wp-events-plugin.com//7.2.3.1//EN
TZID:Europe/London
X-WR-TIMEZONE:Europe/London
BEGIN:VEVENT
UID:17360@allsaintsholbeach.org.uk
DTSTART;TZID=Europe/London;VALUE=DATE:20261226
DTEND;TZID=Europe/London;VALUE=DATE:20261227
DTSTAMP:20251231T120959Z
URL:https://allsaintsholbeach.org.uk/events/boxing-day-2/
SUMMARY:BOXING DAY
DESCRIPTION:
CATEGORIES:Events &amp; Special Services
END:VEVENT
BEGIN:VTIMEZONE
TZID:Europe/London
X-LIC-LOCATION:Europe/London
BEGIN:STANDARD
DTSTART:20261025T010000
TZOFFSETFROM:+0100
TZOFFSETTO:+0000
TZNAME:GMT
END:STANDARD
END:VTIMEZONE
END:VCALENDAR